Workbook

Sheet ΠΕΡΙΟΔΙΚΗ ΑΠΟΤΙΜΗΣΗ
A1: Α Σ Κ Η Σ Η ΑΠΟΤΙΜΗΣΗΣ ΑΠΟΘΕΜΑΤΩΝ
A2: MT | C2: ΕΙΣΑΓΩΓΕΣ | F2: ΕΞΑΓΩΓΕΣ | I2: ΥΠΟΛΟΙΠΟ
A3: ΗΜ/ΝΙΑ | B3: ΑΙΤΙΟΛΟΓΙΑ | C3: Q | D3: P | E3: V | F3: Q | G3: P | H3: V | I3: Q | J3: P | K3: V
A4: 01/01 | B4: απογραφή | C4: 1000 | D4: 120
A5: 02/02 | B5: πώληση | F5: 200
A6: 03/03 | B6: αγορά | C6: 400 | D6: 150
A7: 04/04 | B7: πώληση | F7: 1000
A8: 05/05 | B8: αγορά | C8: 600 | D8: 160
A9: 06/06 | B9: πώληση | F9: 400
A10: 07/07 | B10: αγορά | C10: 800 | D10: 200
A11: 08/08 | B11: πώληση | F11: 600
A12: 09/09 | B12: αγορά | C12: 200 | D12: 210
A13: 10/10 | B13: αγορά | C13: 600 | D13: 220
A14: 11/11 | B14: αγορά | C14: 400 | D14: 240
A15: 12/12 | B15: πώληση | F15: 1300
G17: ΚΠ
A18: FIFO | C18: ΕΙΣΑΓΩΓΕΣ | F18: ΕΞΑΓΩΓΕΣ | I18: ΥΠΟΛΟΙΠΟ
A19: ΗΜ/ΝΙΑ | B19: ΑΙΤΙΟΛΟΓΙΑ | C19: Q | D19: P | E19: V | F19: Q | G19: P | H19: V | I19: Q | J19: P | K19: V
A20: 01/01 | B20: απογραφή | C20: =C4 -> 1000 | D20: =D4 -> 120
A21: 02/02 | B21: πώληση | F21: =F5 -> 200
A22: 03/03 | B22: αγορά | C22: =C6 -> 400 | D22: =D6 -> 150
A23: 04/04 | B23: πώληση | F23: =F7 -> 1000
A24: 05/05 | B24: αγορά | C24: =C8 -> 600 | D24: =D8 -> 160
A25: 06/06 | B25: πώληση | F25: =F9 -> 400
A26: 07/07 | B26: αγορά | C26: =C10 -> 800 | D26: =D10 -> 200
A27: 08/08 | B27: πώληση | F27: =F11 -> 600
A28: 09/09 | B28: αγορά | C28: =C12 -> 200 | D28: =D12 -> 210
A29: 10/10 | B29: αγορά | C29: =C13 -> 600 | D29: =D13 -> 220
A30: 11/11 | B30: αγορά | C30: =C14 -> 400 | D30: =D14 -> 240
A31: 12/12 | B31: πώληση | F31: =F15 -> 1300
G35: ΚΠ
A36: LIFO | C36: ΕΙΣΑΓΩΓΕΣ | F36: ΕΞΑΓΩΓΕΣ | I36: ΥΠΟΛΟΙΠΟ
A37: ΗΜ/ΝΙΑ | B37: ΑΙΤΙΟΛΟΓΙΑ | C37: Q | D37: P | E37: V | F37: Q | G37: P | H37: V | I37: Q | J37: P | K37: V
A38: 01/01 | B38: απογραφή | C38: =C20 -> 1000 | D38: =D20 -> 120
A39: 02/02 | B39: πώληση | F39: =F21 -> 200
A40: 03/03 | B40: αγορά | C40: =C22 -> 400 | D40: =D22 -> 150
A41: 04/04 | B41: πώληση | F41: =F23 -> 1000
A42: 05/05 | B42: αγορά | C42: =C24 -> 600 | D42: =D24 -> 160
A43: 06/06 | B43: πώληση | F43: =F25 -> 400
A44: 07/07 | B44: αγορά | C44: =C26 -> 800 | D44: =D26 -> 200
A45: 08/08 | B45: πώληση | F45: =F27 -> 600
A46: 09/09 | B46: αγορά | C46: =C28 -> 200 | D46: =D28 -> 210
A47: 10/10 | B47: αγορά | C47: =C29 -> 600 | D47: =D29 -> 220
A48: 11/11 | B48: αγορά | C48: =C30 -> 400 | D48: =D30 -> 240
A49: 12/12 | B49: πώληση | F49: =F31 -> 1300
G52: ΚΠ

Sheet ΔΙΑΡΚΗΣ ΑΠΟΤΙΜΗΣΗ
A1: Α Σ Κ Η Σ Η ΑΠΟΤΙΜΗΣΗΣ ΑΠΟΘΕΜΑΤΩΝ
A2: MT | C2: ΕΙΣΑΓΩΓΕΣ | F2: ΕΞΑΓΩΓΕΣ | I2: ΥΠΟΛΟΙΠΟ
A3: ΗΜ/ΝΙΑ | B3: ΑΙΤΙΟΛΟΓΙΑ | C3: Q | D3: P | E3: V | F3: Q | G3: P | H3: V | I3: Q | J3: P | K3: V
A4: 01/01 | B4: απογραφή | C4: ='ΠΕΡΙΟΔΙΚΗ ΑΠΟΤΙΜΗΣΗ'!C4 -> 1000 | D4: ='ΠΕΡΙΟΔΙΚΗ ΑΠΟΤΙΜΗΣΗ'!D4 -> 120
A5: 02/02 | B5: πώληση | F5: ='ΠΕΡΙΟΔΙΚΗ ΑΠΟΤΙΜΗΣΗ'!F5 -> 200
A6: 03/03 | B6: αγορά | C6: ='ΠΕΡΙΟΔΙΚΗ ΑΠΟΤΙΜΗΣΗ'!C6 -> 400 | D6: ='ΠΕΡΙΟΔΙΚΗ ΑΠΟΤΙΜΗΣΗ'!D6 -> 150
A7: 04/04 | B7: πώληση | F7: ='ΠΕΡΙΟΔΙΚΗ ΑΠΟΤΙΜΗΣΗ'!F7 -> 1000
A8: 05/05 | B8: αγορά | C8: ='ΠΕΡΙΟΔΙΚΗ ΑΠΟΤΙΜΗΣΗ'!C8 -> 600 | D8: ='ΠΕΡΙΟΔΙΚΗ ΑΠΟΤΙΜΗΣΗ'!D8 -> 160
A9: 06/06 | B9: πώληση | F9: ='ΠΕΡΙΟΔΙΚΗ ΑΠΟΤΙΜΗΣΗ'!F9 -> 400
A10: 07/07 | B10: αγορά | C10: ='ΠΕΡΙΟΔΙΚΗ ΑΠΟΤΙΜΗΣΗ'!C10 -> 800 | D10: ='ΠΕΡΙΟΔΙΚΗ ΑΠΟΤΙΜΗΣΗ'!D10 -> 200
A11: 08/08 | B11: πώληση | F11: ='ΠΕΡΙΟΔΙΚΗ ΑΠΟΤΙΜΗΣΗ'!F11 -> 600
A12: 09/09 | B12: αγορά | C12: ='ΠΕΡΙΟΔΙΚΗ ΑΠΟΤΙΜΗΣΗ'!C12 -> 200 | D12: ='ΠΕΡΙΟΔΙΚΗ ΑΠΟΤΙΜΗΣΗ'!D12 -> 210
A13: 10/10 | B13: αγορά | C13: ='ΠΕΡΙΟΔΙΚΗ ΑΠΟΤΙΜΗΣΗ'!C13 -> 600 | D13: ='ΠΕΡΙΟΔΙΚΗ ΑΠΟΤΙΜΗΣΗ'!D13 -> 220
A14: 11/11 | B14: αγορά | C14: ='ΠΕΡΙΟΔΙΚΗ ΑΠΟΤΙΜΗΣΗ'!C14 -> 400 | D14: ='ΠΕΡΙΟΔΙΚΗ ΑΠΟΤΙΜΗΣΗ'!D14 -> 240
A15: 12/12 | B15: πώληση | F15: ='ΠΕΡΙΟΔΙΚΗ ΑΠΟΤΙΜΗΣΗ'!F15 -> 1300
A17: FIFO | C17: ΕΙΣΑΓΩΓΕΣ | F17: ΕΞΑΓΩΓΕΣ | I17: ΥΠΟΛΟΙΠΟ
A18: ΗΜ/ΝΙΑ | B18: ΑΙΤΙΟΛΟΓΙΑ | C18: Q | D18: P | E18: V | F18: Q | G18: P | H18: V | I18: Q | J18: P | K18: V
A19: 01/01 | B19: απογραφή | C19: =C4 -> 1000 | D19: =D4 -> 120
A20: 02/02 | B20: πώληση | F20: =F5 -> 200
A21: 03/03 | B21: αγορά | C21: =C6 -> 400 | D21: =D6 -> 150
A23: 04/04 | B23: πώληση | F23: =F7 -> 1000
A26: 05/05 | B26: αγορά | C26: =C8 -> 600 | D26: =D8 -> 160
A28: 06/06 | B28: πώληση | F28: =F9 -> 400
A31: 07/07 | B31: αγορά | C31: =C10 -> 800 | D31: =D10 -> 200
A33: 08/08 | B33: πώληση | F33: =F11 -> 600
A36: 09/09 | B36: αγορά | C36: =C12 -> 200 | D36: =D12 -> 210
A38: 10/10 | B38: αγορά | C38: =C13 -> 600 | D38: =D13 -> 220
A42: 11/11 | B42: αγορά | C42: =C14 -> 400 | D42: =D14 -> 240
A47: 12/12 | B47: πώληση | F47: =F15 -> 1300
A52: LIFO | C52: ΕΙΣΑΓΩΓΕΣ | F52: ΕΞΑΓΩΓΕΣ | I52: ΥΠΟΛΟΙΠΟ
A53: ΗΜ/ΝΙΑ | B53: ΑΙΤΙΟΛΟΓΙΑ | C53: Q | D53: P | E53: V | F53: Q | G53: P | H53: V | I53: Q | J53: P | K53: V
A54: 01/01 | B54: απογραφή | C54: =C19 -> 1000 | D54: =D19 -> 120
A55: 02/02 | B55: πώληση | F55: =F20 -> 200
A56: 03/03 | B56: αγορά | C56: =C21 -> 400 | D56: =D21 -> 150
A57: 04/04 | B57: πώληση | F57: =F23 -> 1000
A60: 05/05 | B60: αγορά | C60: =C26 -> 600 | D60: =D26 -> 160
A61: 06/06 | B61: πώληση | F61: =F28 -> 400
A62: 07/07 | B62: αγορά | C62: =C31 -> 800 | D62: =D31 -> 200
A63: 08/08 | B63: πώληση | F63: =F33 -> 600
A64: 09/09 | B64: αγορά | C64: =C36 -> 200 | D64: =D36 -> 210
A65: 10/10 | B65: αγορά | C65: =C38 -> 600 | D65: =D38 -> 220
A66: 11/11 | B66: αγορά | C66: =C42 -> 400 | D66: =D42 -> 240
A67: 12/12 | B67: πώληση | F67: =F47 -> 1300
