Workbook

Sheet ΙΣΟΛΟΓΙΣΜΟΣ
A1: ΙΣΟΛΟΓΙΣΜΟΣ | G1: ΙΣΟΛΟΓΙΣΜΟΣ
A2: ΕΝΕΡΓΗΤΙΚΟ | C2: ΙΔΙΑ ΚΕΦΑΛΑΙΑ - ΚΘ | G2: ΕΝΕΡΓΗΤΙΚΟ
A3: ΠΑΓΙΟ ΕΝΕΡΓΗΤΙΚΟ | C3: ΚΕΦΑΛΑΙΑ | G3: ΠΑΓΙΟ ΕΝΕΡΓΗΤΙΚΟ
A4: ΑΥΛΑ ΣΤΟΙΧΕΙΑ -ΑΥΛΟ ΕΝΕΡΓΗΤΙΚΟ | C4: ΑΠΟΘΕΜΑΤΙΚΑ | G4: ΑΥΛΑ ΣΤΟΙΧΕΙΑ -ΑΥΛΟ ΕΝΕΡΓΗΤΙΚΟ
A5: ΕΝΣΩΜΑΤΑ ΠΑΓΙΑ ΣΤΟΙΧΕΙΑ ΣΤΟΙΧΕΙΑ | C5: ΚΕΡΔΗ / ΖΗΜΙΕΣ ΕΙΣ ΝΈΟ | G5: ΕΝΣΩΜΑΤΑ ΠΑΓΙΑ ΣΤΟΙΧΕΙΑ ΣΤΟΙΧΕΙΑ
A6: ΓΗΠΕΔΑ-ΟΙΚΟΠΕΔΑ | C6: ΠΑΡΕΛΘΟΥΣΩΝ ΧΡΗΣΕΩΝ | G6: ΓΗΠΕΔΑ-ΟΙΚΟΠΕΔΑ
A7: ΚΤΗΡΙΑ | C7: ΤΡΕΧΟΥΣΑΣ ΧΡΗΣΗΣ | D7: ΖΖΖΖΖ | G7: ΚΤΗΡΙΑ
A8: ΜΗΧΑΝΗΜΑΤΑ | C8: (+) ΕΣΟΔΑ | G8: ΜΗΧΑΝΗΜΑΤΑ
A9: ΜΕΤΑΦΟΡΙΚΑ ΜΕΣΑ | C9: (-) ΕΞΟΔΑ | G9: ΜΕΤΑΦΟΡΙΚΑ ΜΕΣΑ
A10: ΕΠΙΠΛΑ-ΛΟΙΠΟΣ ΕΞΟΠΛΙΣΜΟΣ | G10: ΕΠΙΠΛΑ-ΛΟΙΠΟΣ ΕΞΟΠΛΙΣΜΟΣ
A11: (-) ΑΠΟΣΒΕΣΜΕΝΑ ΠΑΓΙΑ | C11: ΣΥΝΟΛΟ ΙΔΙΩΝ ΚΕΦΑΛΑΙΩΝ | D11: 400000 | G11: (-) ΑΠΟΣΒΕΣΜΕΝΑ ΠΑΓΙΑ
A12: ΣΥΝΟΛΟ ΠΑΓΙΟΥ ΕΝΕΡΓΗΤΙΚΟΥ | G12: ΣΥΝΟΛΟ ΠΑΓΙΟΥ ΕΝΕΡΓΗΤΙΚΟΥ
C13: ΠΑΘΗΤΙΚΟ
A14: ΣΥΜΜΕΤΟΧΕΣ - ΛΟΙΠΕΣ ΜΑΚ.ΑΠΑΙΤΗΣΕΙΣ | C14: ΜΑΚΡΟΠΡΟΘΕΣΜΕΣ ΥΠΟΧΡΕΩΣΕΙΣ | D14: =+D16 -> 500000 | G14: ΣΥΜΜΕΤΟΧΕΣ - ΛΟΙΠΕΣ ΜΑΚ.ΑΠΑΙΤΗΣΕΙΣ
C15: ΟΜΟΛΟΓΙΑ ΔΑΝΕΙΑ -ΕΚΔΟΤΗΣ Η ΕΠΙΧ.
A16: ΚΥΚΛΟΦΟΡΟΥΝ ΕΝΕΡΓΗΤΙΚΟ | C16: ΜΑΚΡΟΠΡΟΘΕΣΜΑ ΔΑΝΕΙΑ | D16: 500000 | G16: ΚΥΚΛΟΦΟΡΟΥΝ ΕΝΕΡΓΗΤΙΚΟ
A17: ΑΠΟΘΕΜΑΤΑ | B17: =+B30-B22-B26-B27 -> 650000 | C17: ΛΟΙΠΕΣ ΜΑΚΡΟΠΡ. ΥΠΟΧΡΕΩΣΕΙΣ | G17: ΑΠΟΘΕΜΑΤΑ
A18: ΕΜΠΟΡΕΥΜΑΤΑ | C18: ΒΡΑΧΥΠΡΟΘΣΜΟ ΠΑΘΗΤΙΚΟ | D18: 1100000 | G18: ΕΜΠΟΡΕΥΜΑΤΑ
A19: ΠΡΟΙΟΝΤΑ | C19: ΠΡΟΜΗΘΕΥΤΕΣ | G19: ΠΡΟΙΟΝΤΑ
A20: Α&Β ΥΛΕΣ | C20: ΑΞΙΕΣ ΠΛΗΡΩΤΕΕΣ | G20: Α&Β ΥΛΕΣ
A21: ΛΟΙΠΑ ΑΠΟΘΕΜΑΤΑ | C21: ΤΡΑΠΕΖΕΣ-ΔΑΝΕΙΑ | D21: 300000 | G21: ΛΟΙΠΑ ΑΠΟΘΕΜΑΤΑ
A22: ΑΠΑΙΤΗΣΕΙΣ | B22: 200000 | C22: ΠΙΣΤΩΤΕΣ | G22: ΑΠΑΙΤΗΣΕΙΣ
A23: ΠΕΛΑΤΕΣ | C23: ΥΠΟΧΡΕΩΣΕΙΣ ΣΕ ΦΟΡΟΥΣ | G23: ΠΕΛΑΤΕΣ
A24: ΧΡΕΩΣΤΕΣ | C24: ΥΠΟΧΡΕΩΣΕΙΣ ΣΕ ΑΣΦΑΛΙΣΤΙΚΟΥΣ ΟΡΓΑΝΙΣΜΟΥΣ | G24: ΧΡΕΩΣΤΕΣ
A25: ΑΞΙΕΣ ΕΙΣΠΡΑΚΤΕΕΣ | G25: ΑΞΙΕΣ ΕΙΣΠΡΑΚΤΕΕΣ
A26: ΧΡΕΟΓΡΑΦΑ | B26: 100000 | C26: ΣΥΝΟΛΟ ΠΑΘΗΤΙΚΟΥ | G26: ΧΡΕΟΓΡΑΦΑ
A27: ΔΙΑΘΕΣΙΜΑ | B27: 50000 | G27: ΔΙΑΘΕΣΙΜΑ
A28: ΤΑΜΕΙΟ | G28: ΤΑΜΕΙΟ
A29: ΚΤΘ | G29: ΚΤΘ
A30: ΣΥΝΟΛΟ ΚΥΚΛΟΦ. ΕΝΕΡΓΗΤΙΚΟΥ | B30: 1000000 | G30: ΣΥΝΟΛΟ ΚΥΚΛΟΦ. ΕΝΕΡΓΗΤΙΚΟΥ
A32: ΣΥΝΟΛΟ ΕΝΕΡΓΗΤΙΚΟΥ | B32: 2000000 | C32: ΣΥΝΟΛΟ ΠΑΘΗΤΙΚΟΥ + ΚΘ | D32: =+B32 -> 2000000 | G32: ΣΥΝΟΛΟ ΕΝΕΡΓΗΤΙΚΟΥ | H32: ΧΧΧΧΧΧ
G34: ΙΔΙΑ ΚΕΦΑΛΑΙΑ - ΚΘ
G35: ΚΕΦΑΛΑΙΑ
G36: ΑΠΟΘΕΜΑΤΙΚΑ
G37: ΚΕΡΔΗ / ΖΗΜΙΕΣ ΕΙΣ ΝΈΟ
G38: ΠΑΡΕΛΘΟΥΣΩΝ ΧΡΗΣΕΩΝ
G39: ΤΡΕΧΟΥΣΑΣ ΧΡΗΣΗΣ
G40: (+) ΕΣΟΔΑ
G41: (-) ΕΞΟΔΑ
G43: ΣΥΝΟΛΟ ΙΔΙΩΝ ΚΕΦΑΛΑΙΩΝ
...

Sheet ΚΑΧ
A1: ΚΑΧ
A2: (+) ΠΩΛΗΣΕΙΣ ΑΠΟΘΕΜΑΤΩΝ - ΕΜΠΟΡΕΥΜΑΤΩΝ | B2: 1000000 | C2: ΚΥΚΛΟΣ ΕΡΓΑΣΙΩΝ - ΤΖΙΡΟΣ - ΠΩΛΗΣΕΙΣ | E2: ΑΡΙΘΜΟΔΕΊΚΤΕΣ
A3: (-) ΚΟΣΤΟΣ ΠΩΛΗΘΕΝΤΩΝ | B3: -800000
A4: ΜΙΚΤΟ ΚΕΡΔΟΣ | B4: =+B2+B3 -> 200000 | E4: 1. ΚΕΡΔΟΦΟΡΙΑ
A5: (+) ΛΟΙΠΑ ΛΕΙΤΟΥΡΓΙΚΑ ΕΣΟΔΑ | B5: 10000 | F5: 1. Συντελεστής Μικτού Κέρδους
A6: ΕΣΟΔΑ ΠΑΡΕΠΟΜΕΝΩΝ ΑΣΧΟΛΕΙΩΝ | F6: ΣΜΚ=Μικτό Κέρδος/Πωλήσεις | G6: =+B4/B2 -> 0.2
A7: ΕΣΟΔΑ ΜΙΣΘΩΜΑΤΩΝ | F7: 2. EBITDA | G7: =+B14 -> 90000
A8: ΠΡΟΜΗΘΕΙΕΣ - ΜΕΣΙΤΕΙΕΣ | F8: 3. EBIT | G8: =+B16 -> 70000
A9: (-) ΛΟΙΠΑ ΛΕΙΤΟΥΡΓΙΚΑ ΕΞΟΔΑ | B9: -120000 | C9: ΛΕΙΤΟΥΡΓΙΕΣ | F9: 4.EBT | G9: =+B19 -> 57000
A10: ΑΜΟΙΒΕΣ ΠΡΟΣΩΠΙΚΟΥ | C10: ΕΞΟΔΑ ΛΕΙΤΟΥΡΓΙΑΣ ΔΙΑΘΕΣΕΩΣ | F10: 5.PAT | G10: =+B21 -> 40000
A11: ΑΜΟΙΒΕΣ ΤΡΙΤΩΝ | C11: ΕΞΟΔΑ ΔΙΟΙΚΗΤΙΚΗΣ ΛΕΙΤΟΥΡΓΙΑΣ | F11: 6. Συντελεστής Καθαρού Κέρδους
A12: ΠΑΡΟΧΕΣ ΤΡΙΤΩΝ | C12: ΕΞΟΔΑ ΕΡΕΥΝΑΣ & ΑΝΑΠΤΥΞΗΣ | F12: ΣΚΚ=Καθαρά κέρδη μετά από φόρους/Πωλήσεις | G12: =+G10/B2 -> 0.04
A13: ΔΙΑΦΟΡΑ ΕΞΟΔΑ | F13: 7. Απόδοση Ενεργητικού ROA
A14: ΚΕΡΔΗ/ΖΗΜΙΕΣ ΠΡΟ ΦΟΡΩΝ ΤΟΚΩΝ & ΑΠΟΣΒΕΣΕΩΝ | B14: =+B4+B5+B9 -> 90000 | C14: EBITDA | F14: ROA=Καθαρά κέρδη μετά από φόρους/Σ.Ενεργητικού | G14: =+G10/ΙΣΟΛΟΓΙΣΜΟΣ!B32 -> 0.02
A15: (-) ΑΠΟΣΒΕΣΕΙΣ | B15: -20000 | F15: 8. Απόδοση Ιδίων Κεφαλαίων ROE
A16: ΚΕΡΔΗ/ΖΗΜΙΕΣ ΠΡΟ ΦΟΡΩΝ & ΤΟΚΩΝ | B16: =+B14+B15 -> 70000 | C16: ΕΒΙΤ | F16: ROE=Καθαρά κέρδη μετά από φόρους/Σ.ΚΘ ή Ιδ. Κεφ. | G16: =+G10/ΙΣΟΛΟΓΙΣΜΟΣ!D11 -> 0.1
A17: (+) ΤΟΚΟΙ ΕΣΟΔΑ - ΤΟΚΟΙ ΠΙΣΤΩΤΙΚΟΙ | B17: 2000 | C17: ΧΡΗΜΑΤΟΟΙΚΟΝΟΜΙΚΗ ΛΕΙΤΟΥΡΓΙΑ | E17: 2.ΡΕΥΣΤΟΤΗΤΑΣ
A18: (-) ΤΟΚΟΙ ΕΞΟΔΑ - ΤΟΚΟΙ ΧΡΕΩΣΤΙΚΟΙ | B18: -15000 | F18: 1. Κεφάλαιο Κίνησης
A19: ΚΕΡΖΗ/ΖΗΜΙΕΣ ΠΡΟ ΦΟΡΩΝ | B19: =+B16+B17+B18 -> 57000 | C19: EBT | F19: ΚΚ=Κυκλοφορούν Ενεργητικό- Βαραχυπρόθεσμες Υποχρ. | G19: =+ΙΣΟΛΟΓΙΣΜΟΣ!B30-ΙΣΟΛΟΓΙΣΜΟΣ!D18 -> -100000
A20: (-) ΦΟΡΟΙ | B20: -17000 | F20: Στις Βρχ.Υποχρ. Καλό είναι να μη συμπεριλαμβανοται οι
A21: ΚΕΡΔΗ/ΖΗΜΙΕΣ ΜΕΤΑ ΑΠΌ ΦΟΡΟΥΣ | B21: =+B19+B20 -> 40000 | C21: PAT - EAT- NI | F21: Βρχ. Τραπεζικοί Δανεισμοί | G21: =+ΙΣΟΛΟΓΙΣΜΟΣ!B30-(ΙΣΟΛΟΓΙΣΜΟΣ!D18-ΙΣΟΛΟΓΙΣΜΟΣ!D21) -> 200000
F22: 2. Γενική Ρευστότητα
B23: =B21*0.05 -> 2000 | F23: LR=Κυκλοφ.Ενεργ./ Βραχ. Υποχρ. | G23: =+ΙΣΟΛΟΓΙΣΜΟΣ!B30/ΙΣΟΛΟΓΙΣΜΟΣ!D18 -> 0.90909091
F24: LR=Κυκλοφ.Ενεργ./ (Βραχ. Υποχρ.-Τραπ.Δαν.) | G24: =ΙΣΟΛΟΓΙΣΜΟΣ!B30/(ΙΣΟΛΟΓΙΣΜΟΣ!D18-ΙΣΟΛΟΓΙΣΜΟΣ!D21) -> 1.25
F25: 3. Άμεση Ρευστότητα
F26: QR=(Απαιτ+Χρεογρ+Διαθεσιμα)/ Βαχ.Υποχρ. | G26: =(ΙΣΟΛΟΓΙΣΜΟΣ!B22+ΙΣΟΛΟΓΙΣΜΟΣ!B26+ΙΣΟΛΟΓΙΣΜΟΣ!B27)/ΙΣΟΛΟΓΙΣΜΟΣ!D18 -> 0.31818182
F27: QR=(Απαιτ+Χρεογρ+Διαθεσιμα)/ (Βαχ.Υποχρ.-Τραπ,Δανεια) | G27: =(ΙΣΟΛΟΓΙΣΜΟΣ!B22+ΙΣΟΛΟΓΙΣΜΟΣ!B26+ΙΣΟΛΟΓΙΣΜΟΣ!B27)/(ΙΣΟΛΟΓΙΣΜΟΣ!D18-ΙΣΟΛΟΓΙΣΜΟΣ!D21) -> 0.4375
E28: 3, ΦΕΡΕΓΚΥΟΤΗΤΑ
F29: Μόχλευσης ή Ιδια προς Ξένα κεφάλαια Leverage | G29: =ΙΣΟΛΟΓΙΣΜΟΣ!D11/(ΙΣΟΛΟΓΙΣΜΟΣ!D16+ΙΣΟΛΟΓΙΣΜΟΣ!D21) -> 0.5
F30: Μόχλευσης ή Ξένα προς Ίδια κεφάλαια D/E | G30: =(ΙΣΟΛΟΓΙΣΜΟΣ!D16+ΙΣΟΛΟΓΙΣΜΟΣ!D21)/ΙΣΟΛΟΓΙΣΜΟΣ!D11 -> 2
F31: Ίδια κεφάλαια/ ΣΕ | G31: =ΙΣΟΛΟΓΙΣΜΟΣ!D11/ΙΣΟΛΟΓΙΣΜΟΣ!B32 -> 0.2
E32: 4. ΔΙΑΡΘΡΩΣΗΣ
E33: 5. ΠΑΡΑΓΩΓΙΚΟΤΗΤΑΣ
E34: 6. ΕΠΕΝΔΥΤΙΚΟΙ

Sheet ΛΟΓΑΡΙΑΣΜΟΣ
A1: ΕΙΔΗ ΛΟΓΑΡΙΑΣΜΩΝ
A2: ΕΝΕΡΓΗΤΙΚΟΥ ή ΠΕΡΙΟΥΣΙΑΣ
A3: ΠΑΘΗΤΙΚΟΥ ή ΥΠΟΧΡΕΩΣΕΩΝ | B3: ΛΟΓΑΡΙΣΜΟΙ ή ΜΕΤΑΒΛΗΤΕΣ ΑΠΟΘΕΜΑΤΙΚΕΣ | C3: STOCK VARIABLES
A4: ΚΑΘΑΡΗΣ ΘΕΣΗΣ ΚΘ ή ΙΔΙΑ ΚΕΦΑΛΑΙΑ ή ΚΑΘΑΡΗ ΠΕΡΙΟΥΣΙΑ
A6: ΕΣΟΔΑ
A7: ΕΞΟΔΑ | B7: ΛΟΓΑΡΙΑΣΜΟΙ ή ΜΕΤΑΒΛΗΤΕΣ ΡΟΗΣ ή ΕΠΙΔΟΣΗΣ ή ΑΠΟΤΕΛΕΣΜΑΤΩΝ | C7: FLOW VARIABLES
A10: ΌΤΑΝ ΕΣΟΔΑ-ΕΞΟΔΑ>0 ΤΟΤΕ ΚΕΡΔΗ
A11: ΌΤΑΝ ΕΣΟΔΑ-ΕΞΟΔΑ<0 ΤΟΤΕ ΖΗΜΙΕΣ
A14: ΣΤΗ ΛΟΓΙΣΤΙΚΗ ΔΕΝ ΥΠΑΡΧΟΥΝ ΠΡΟΣΗΜΑ + ή -
A16: ΧΡΕΩΣΗ | B16: DEBIT | C16: X
A17: ΠΙΣΤΩΣΗ | B17: CREDIT | C17: Π
A20: ΕΝΕΡΓΗΤΙΚΟΥ ή ΠΕΡΙΟΥΣΙΑΣ | B20: ΑΥΞΑΝΟΥΝ ΜΕ ΤΗ ΧΡΕΩΣΗ | C20: ΜΕΙΩΝΟΝΤΑΙ ΜΕ ΤΗΝ ΠΙΣΤΩΣΗ
A21: ΠΑΘΗΤΙΚΟΥ ή ΥΠΟΧΡΕΩΣΕΩΝ | B21: ΑΥΞΑΝΟΥΝ ΜΕ ΤΗ ΠΙΣΤΩΣΗ | C21: ΜΕΙΩΝΟΝΤΑΙ ΜΕ ΤΗΝ ΧΡΕΩΣΗ
A22: ΚΑΘΑΡΗΣ ΘΕΣΗΣ ΚΘ ή ΙΔΙΑ ΚΕΦΑΛΑΙΑ ή ΚΑΘΑΡΗ ΠΕΡΙΟΥΣΙΑ | B22: ΑΥΞΑΝΟΥΝ ΜΕ ΤΗ ΠΙΣΤΩΣΗ | C22: ΜΕΙΩΝΟΝΤΑΙ ΜΕ ΤΗΝ ΧΡΕΩΣΗ
A23: ΕΣΟΔΑ | B23: ΑΥΞΑΝΟΥΝ ΜΕ ΤΗ ΠΙΣΤΩΣΗ | C23: ΜΕΙΩΝΟΝΤΑΙ ΜΕ ΤΗΝ ΧΡΕΩΣΗ
A24: ΕΞΟΔΑ | B24: ΑΥΞΑΝΟΥΝ ΜΕ ΤΗ ΧΡΕΩΣΗ | C24: ΜΕΙΩΝΟΝΤΑΙ ΜΕ ΤΗΝ ΠΙΣΤΩΣΗ
A26: Η ΤΕΧΝΙΚΗ ΜΟΡΦΗ ΕΝΌΣ ΛΟΓΑΡΙΑΣΜΟΥ
A27: ΕΠΙΠΛΑ
A28: ΧΡΕΩΣΗ | B28: ΠΙΣΤΩΣΗ
A29: 10000 | B29: 2000 | D29: ΑΧΥΡΑ | H29: ΣΙΤΑΡΙ
A30: 5000 | B30: 7000 | D30: 1000 | E30: 500 | H30: 25000 | I30: 3000
A31: 3000 | D31: 100 | H31: 150
A32: =SUM(A29:A31) -> 18000 | B32: =SUM(B29:B31) -> 9000 | D32: 50 | H32: 70
A33: =+A32-B32 -> 9000 | D33: 300 | H33: 2500
D34: =SUM(D30:D33) -> 1450 | E34: =SUM(E30:E33) -> 500 | H34: =SUM(H30:H33) -> 27720 | I34: =SUM(I30:I33) -> 3000
D35: =+D34-E34 -> 950 | H35: =+H34-I34 -> 24720
D37: ΚΡΙΘΑΡΙ
D38: 15000 | E38: 3200
D39: 1000
D40: 1500
D42: =SUM(D38:D41) -> 17500 | E42: =SUM(E38:E41) -> 3200
D43: =+D42-E42 -> 14300

Sheet ΛΟΓ.ΓΕΓΟΝΟΤΑ
A1: ΕΤΣΩ ΌΤΙ ΣΤΙΣ 10/3/2021 Η ΕΠΙΧΕΙΡΗΣΗ ΑΓΟΡΑΣΕ ΈΝΑ ΜΗΧΑΝΗΜΑ ΕΝΑΝΤΙ ΠΟΣΟΥ 10.000 ΕΥΡΩ ΜΕΤΡΗΤΟΙΣ
A2: ΜΗΧΑΝΗΜΑΤΑ | E2: ΤΑΜΕΙΟ | K2: ΕΝΕΡΓΗΤΙΚΟ | L2: ΚΑΘΑΡΗ ΘΕΣΗ | M2: ΥΠΟΧΡΕΩΣΕΙΣ
A3: 10000 | F3: 10000 | K3: 10000 | L3: 10000 | M3: 0
K5: 10000 | L5: 10000 | M5: 5000
K6: 5000
A8: Η ΕΤΑΙΡΕΙΑ ΕΛΑΒΕ ΔΑΝΕΙΟ ΑΠΌ ΤΗΝ ΤΡΑΠΕΖΑ 50.000 ΕΥΡΩ ΤΟ ΟΠΟΙΟ ΤΗΣ ΚΑΤΑΤΕΘΗΚΕ ΣΤΟΝ ΛΟΓΑΡΙΑΣΜΟ ΟΨΕΩΣ ΤΗΣ ΕΤΑΙΡΕΙΑΣ
A9: ΚΑΤΑΘΕΣΕΙΣ ΟΨΕΩΣ | E9: ΔΑΝΕΙΑ ΤΡΑΠΕΖΩΝ
A10: 50000 | F10: 50000
A15: Ε=Π+ΚΘ | B15: ΙΣΧΥΕΙ ΠΑΝΤΑ ΜΕΤΑ ΤΟ ΟΠΟΙΟΔΗΠΟΤΕ ΛΟΓΙΣΤΙΚΟ ΓΕΓΟΝΟΣ - ΑΛΛΑΖΟΥΝ ΤΑ ΣΤΟΙΧΕΙΑ Ε, Π, ΚΑΙ ΚΘ ΑΛΛΑ ΠΑΝΤΑ Ε=Π+ΚΘ ΠΑΡΑ ΤΙΣ ΑΛΛΑΓΕΣ ΣΤΑ ΕΠΙΜΕΡΟΥΣ
A16: Χ=Π | B16: ΙΣΧΥΕΙ ΠΑΝΤΑ ΜΕΤΑ ΤΟ ΟΠΟΙΟΔΗΠΟΤΕ ΛΟΓΙΣΤΙΚΟ ΓΕΓΟΝΟΣ - ΑΛΛΑΖΟΥΝ ΤΑ ΣΤΟΙΧΕΙΑ ΧΡΕΩΣΕΩΝ (Χ) ΚΑΙ ΠΙΣΤΩΣΕΩΝ (Π) ΑΛΛΑ ΠΑΝΤΑ Χ=Π ΠΑΡΑ ΤΙΣ ΑΛΛΑΓΕΣ ΣΤΑ ΕΠΙΜΕΡΟΥΣ
A17: ΛΟΓΙΣΤΙΚΗ ΕΓΓΡΑΦΗ ΕΊΝΑΙ Η ΜΕΤΑΒΟΛΗ Ή Η ΚΑΤΑΧΩΡΗΣΗ ΕΝΌΣ ΠΟΣΟΥ ΣΤΗ ΧΡΕΩΣΗ Ή ΤΗΝ ΠΙΣΤΩΣΗ ΕΝΌΣ ΛΟΓΑΡΙΑΣΜΟΥ
A18: ΛΟΓΙΣΤΙΚΟ ΑΡΘΡΟ ΕΊΝΑΙ Η ΚΑΤΑΓΡΑΦΗ ΕΝΌΣ ΛΟΓΙΣΤΙΚΟΥ ΓΕΓΟΝΟΤΟΣ ΟΠΟΥ
B19: ΕΝΑΣ ΟΙ ΠΕΡΙΣΣΟΤΕΡΟΙ ΛΟΓΑΡΙΑΣΜΟΙ ΧΡΕΩΝΟΝΤΑΙ ΚΑΙ
C20: ΕΝΑΣ ΟΙ ΠΕΡΙΣΣΟΤΕΡΟΙ ΛΟΓΑΡΙΑΣΜΟΙ ΠΙΣΤΩΝΟΝΤΑΙ
A21: ΑΛΛΑ ΠΑΝΤΑ ΤΟ ΑΘΡΟΙΣΜΑ ΤΩΝ ΧΡΕΩΣΕΩΝ = ΜΕ ΤΟ ΑΘΡΟΙΣΜΑ ΤΩΝ ΠΙΣΤΩΣΕΩΝ.

Sheet ΙΕΡΑΡΧΙΣΗ ΛΟΓΑΡΙΑΣΜΩΝ
A1: ΟΜΑΔΑ ΛΟΓΑΡΙΑΣΜΩΝ | B1: ΣΥΓΚΕΝΤΡΩΤΙΚΟΣ ΛΟΓΑΡΙΑΣΜΟΣ | C1: ΑΝΑΛΥΤΙΚΟΙ ΛΟΓΑΡΙΑΣΜΟΙ | D1: ΠΙΟ ΑΝΑΛΥΤΙΚΟΙ ΛΟΓΑΡΙΑΣΜΟΙ | E1: ΑΚΟΜΑ ΠΙΟ ΑΝΑΛΥΤΙΚΟΙ ΛΟΓΑΡΙΑΣΜΟΙ
A2: ΕΝΕΡΓΗΤΙΚΟΥ | B2: ΠΕΛΑΤΕΣ | C2: ΠΕΛΑΤΕΣ ΕΣΩΤΕΡΙΚΟΥ | D2: ΠΕΛΑΤΕΣ ΝΟΤΙΟΥ ΕΛΛΑΔΟΣ | E2: ΛΙΑΠΗΣ ΚΩΝΣΤΑΝΤΙΝΟΣ
C3: ΠΕΛΑΤΕΣ ΕΞΩΤΕΡΙΚΟΥ | D3: ΠΕΛΑΤΕΣ ΒΟΡΙΟΥ ΕΛΛΑΔΟΣ | E3: ΓΕΩΡΓΙΟΣ ΓΕΩΡΓΙΟΥ
E4: ΛΟΙΠΟΙ ΠΕΛΑΤΕΣ
A5: ΠΑΘΗΤΙΚΟΥ
A6: ΚΘ
A7: ΕΣΟΔΩΝ
A8: ΕΞΟΔΩΝ
B9: =+C9 -> ΑΠΟΤΕΛΟΥΝ ΑΘΡΟΙΣΕΙΣ | C9: =+D9 -> ΑΠΟΤΕΛΟΥΝ ΑΘΡΟΙΣΕΙΣ | D9: ΑΠΟΤΕΛΟΥΝ ΑΘΡΟΙΣΕΙΣ | E9: ΤΑ ΛΟΓΙΣΤΙΚΑ ΓΕΓΟΝΟΤΑ ΚΑΤΑΓΡΑΦΟΝΤΑΙ ΣΤΟΥΣ
B10: =+C10 -> ΤΩΝ | C10: =+D10 -> ΤΩΝ | D10: ΤΩΝ | E10: ΠΕΡΙΣΣΟΤΕΡΟ ΑΝΑΛΥΤΙΚΟΥΣ ΛΟΓΑΡΙΑΣΜΟΥΣ
B11: =+C1 -> ΑΝΑΛΥΤΙΚΟΙ ΛΟΓΑΡΙΑΣΜΟΙ | C11: =+D1 -> ΠΙΟ ΑΝΑΛΥΤΙΚΟΙ ΛΟΓΑΡΙΑΣΜΟΙ | D11: =+E1 -> ΑΚΟΜΑ ΠΙΟ ΑΝΑΛΥΤΙΚΟΙ ΛΟΓΑΡΙΑΣΜΟΙ | E11: ΑΝΑΛΥΤΙΚΟΙ ΛΟΓΑΡΙΑΣΜΟΙ= ΛΟΓΑΡΙΑΣΜΟΙ
E12: ΠΟΥ ΚΙΝΟΥΝΤΑΙ
E13: ΟΙ ΛΟΓΑΡΙΑΣΜΟΙ ΑΥΤΟΙ ΧΡΕΩΝΟΝΤΑΙ ΚΑΙ ΠΙΣΤΩΝΟΝΤΑΙ
A15: ΟΜΑΔΑ | B15: 1ο ΒΑΘΜΙΟΙ | C15: 2ο ΒΑΘΜΙΟΙ | D15: 3ο ΒΑΘΜΙΟΙ | E15: 4ο ΒΑΘΜΙΟΙ

Sheet ΑΝΑΓΝΩΡΙΣΗ ΛΟΓΑΡΙΑΣΜΩΝ
A1: ΟΝΟΜΑΣΙΑ ΛΟΓΑΡΙΑΣΜΩΝ | B1: ΕΙΔΟΣ ΛΟΓΑΡΙΑΣΜΟΥ (Ε,Π,ΚΘ,ΕΣ,ΕΞ) | C1: ΑΝ ΑΥΞΑΝΕΤΑΙ ΜΕ ΤΗΝ Χ Ή ΤΗΝ Π (Χ,Π)
A2: ΠΡΟΜΗΘΕΥΤΕΣ | B2: Π-ΒΡΑΧΥΠΡΟΘΕΣΜΟΥ ΠΑΘΗΤΙΚΟΥ | C2: Π
A3: ΤΑΜΕΙΟ | B3: Ε-ΔΙΑΘΕΣΙΜΑ - ΚΥΚΛΟΦΟΡΟΥΝ ΕΝΕΡΓΗΤΙΚΟ | C3: Χ
A4: ΜΗΧΑΝΗΜΑΤΑ | B4: Ε- ΠΑΓΙΑ - ΜΗ ΚΥΚΛΟΦΟΡΟΥΝ ΕΝΕΡΓΗΤΙΚΟΥ | C4: Χ
A5: ΥΠΟΧΡΕΩΣΕΙΣ ΣΕ ΦΟΡΟΥΣ Ή ΦΟΡΟΙ | B5: Π-ΒΡΑΧΥΠΡΟΘΕΣΜΟΥ ΠΑΘΗΤΙΚΟΥ | C5: Π
A6: ΠΕΛΑΤΕΣ | B6: Ε-ΚΥΚΛΟΦΟΥΝΤΑ-ΑΠΑΙΤΗΣΕΙΣ | C6: Χ
A7: ΠΩΛΗΣΕΙΣ | B7: ΕΣΟΔΟ | C7: Π
A8: ΓΡΑΜΜΑΤΕΙΑ ΕΙΣΠΡΑΚΤΕΑ | B8: Ε-ΚΥΚΛΟΦΟΥΝΤΑ-ΑΠΑΙΤΗΣΕΙΣ | C8: Χ
A9: ΑΜΟΙΒΕΣ ΠΡΟΣΩΠΙΚΟΥ | B9: ΕΞΟΔΟ | C9: Χ
A10: ΑΜΟΙΒΕΣ ΠΡΟΣΩΠΙΚΟΥ ΠΛΗΡΩΤΕΕΣ | B10: Π-ΒΡΑΧΥΠΡΟΘΕΣΜΟΥ ΠΑΘΗΤΙΚΟΥ | C10: Π
A11: ΕΣΟΔΑ ΜΙΣΘΩΜΑΤΩΝ | B11: ΕΣΟΔΟ | C11: Π
A12: ΓΡΑΜΜΑΤΕΙΑ ΠΛΗΡΩΤΕΑ | B12: Π-ΒΡΑΧΥΠΡΟΘΕΣΜΟΥ ΠΑΘΗΤΙΚΟΥ | C12: Π
... A26: ΔΙΑΦΟΡΑ ΕΞΟΔΑ | B26: ΕΞΟΔΟ | C26: Χ
A27: ΠΡΟΚΑΤΑΒΟΛΕΣ ΠΕΛΑΤΩΝ | B27: Π | C27: Π | D27: ΑΝΤΙΘΕΤΟΣ ΕΝΕΡΓΗΤΙΚΟΥ
A28: ΠΡΟΚΑΤΑΒΟΛΕΣ ΣΕ ΠΡΟΜΗΘΕΥΤΕΣ | B28: Ε | C28: Χ | D28: ΑΝΤΙΘΕΤΟΣ ΠΑΘΗΤΙΚΟΥ
A29: ΑΠΟΣΒΕΣΕΙΣ | B29: ΕΞΟΔΟ | C29: Χ
A30: ΑΠΟΣΒΕΣΜΕΝΑ ΜΗΧΑΝΗΜΑΤΑ | B30: Π | C30: Π | D30: ΑΝΤΙΘΕΤΟΣ ΕΝΕΡΓΗΤΙΚΟΥ
A31: ΤΟΚΟΙ ΕΣΟΔΑ Ή ΤΟΚΟΙ ΠΙΣΤΩΤΙΚΟΙ | B31: ΕΣΟΔΟ | C31: Π
A32: ΤΟΚΟΙ ΕΞΟΔΑ Ή ΤΟΚΟΙ ΧΡΕΩΣΤΙΚΟΙ | B32: ΕΞΟΔΟ | C32: Χ
A33: ΚΟΣΤΟΣ ΠΩΛΗΘΕΝΤΩΝ | B33: ΕΞΟΔΟ | C33: Χ
A34: ΠΑΡΟΧΕΣ ΤΡΙΤΩΝ | B34: ΕΞΟΔΟ | C34: Χ
A35: ΕΠΙΣΤΡΟΦΕΣ ΑΓΟΡΩΝ | B35: Π | C35: Π | D35: ΑΝΤΙΘΕΤΟΣ ΕΝΕΡΓΗΤΙΚΟΥ
A36: ΕΚΠΤΩΣΕΙΣ ΠΩΛΗΣΕΩΝ | B36: ΕΞΟΔΟ | C36: Χ | D36: ΑΝΤΙΘΕΤΟΣ ΕΣΟΔΩΝ
A37: ΧΡΕΟΓΡΑΦΑ - ΜΤΧ- ΟΜΟΛΟΓΑ | B37: Ε | C37: Χ
